BEGIN:VCALENDAR
VERSION:2.0
PRODID:-//eventon.com NONSGML v1.0//EN
CALSCALE:GREGORIAN
METHOD:PUBLISH
BEGIN:VEVENT
UID:69e5eccac9366
DTSTAMP:20260420T090722Z
DTSTART:20240510T010000Z
DTEND:20240510T023000Z
LOCATION:Mission Museum 33201 2nd Ave\,  Mission BC V2V4L1
SUMMARY:Mission Museum | Strawberry Planting Class
DESCRIPTION:Learn the art of planting strawberries from seasoned experts. D
 iscover the secrets to cultivating these luscious berries and take home you
 r very own strawberry plant to nurture. SOLD OUT\nhttps://www.missiondhs.ca
 /events/mission-museum-strawberry-planting-class/
URL:https://www.missiondhs.ca/events/mission-museum-strawberry-planting-class/
END:VEVENT
END:VCALENDAR