BEGIN:VCALENDAR
VERSION:2.0
PRODID:-//eventon.com NONSGML v1.0//EN
CALSCALE:GREGORIAN
METHOD:PUBLISH
BEGIN:VEVENT
UID:69e737d7948e6
DTSTAMP:20260421T083951Z
DTSTART:20240817T180000Z
DTEND:20240817T190000Z
LOCATION:Mission Museum 33201 2nd Ave\,  Mission BC V2V4L1
SUMMARY:Historic Downtown Walking Tours
DESCRIPTION:This guided tour offers a chance to explore the heart of Missio
 n\,  uncovering stories from the past as you stroll along 1st and 2nd Avenu
 e.\nhttps://www.missiondhs.ca/events/historic-downtown-walking-tours-5/
URL:https://www.missiondhs.ca/events/historic-downtown-walking-tours-5/
END:VEVENT
END:VCALENDAR