BEGIN:VCALENDAR
VERSION:2.0
PRODID:-//eventon.com NONSGML v1.0//EN
CALSCALE:GREGORIAN
METHOD:PUBLISH
BEGIN:VEVENT
UID:69e74aeb5695f
DTSTAMP:20260421T100115Z
DTSTART:20240920
DTEND:20240921
LOCATION:
SUMMARY:MISSION MOMENTS: Timber-r-r!
DESCRIPTION:Timber-r-r-r! is the latest addition to the Mission Moment Seri
 es &#8211; one minute videos bringing captivating moments in the communityâ
 €™s history to life through archival photographs and storytelling. This vid
 eo features the story behind the early logging of Missionâ€™s old-growth fo
 rests to establish fruit and berry farms.\nhttps://www.missiondhs.ca/events
 /mission-moments-timber-r-r/
URL:https://www.missiondhs.ca/events/mission-moments-timber-r-r/
END:VEVENT
END:VCALENDAR