BEGIN:VCALENDAR
VERSION:2.0
PRODID:-//eventon.com NONSGML v1.0//EN
CALSCALE:GREGORIAN
METHOD:PUBLISH
BEGIN:VEVENT
UID:69e75ee8d8678
DTSTAMP:20260421T112632Z
DTSTART:20241003T220000Z
DTEND:20241004T000000Z
LOCATION:Mission Community Archvies 33215 Second\,  Mission BC V2V 1J9
SUMMARY:Mission Community Archives | Archives Matter!
DESCRIPTION:\nhttps://www.missiondhs.ca/events/mission-community-archives-a
 rchives-matter/
URL:https://www.missiondhs.ca/events/mission-community-archives-archives-matter/
END:VEVENT
END:VCALENDAR