BEGIN:VCALENDAR
VERSION:2.0
PRODID:-//eventon.com NONSGML v1.0//EN
CALSCALE:GREGORIAN
METHOD:PUBLISH
BEGIN:VEVENT
UID:69e775f20a4f2
DTSTAMP:20260421T130450Z
DTSTART:20241004
DTEND:20241005
LOCATION:
SUMMARY:MISSION MOMENTS: Historic Deroche
DESCRIPTION:\nhttps://www.missiondhs.ca/events/mission-moments-historic-der
 oche/
URL:https://www.missiondhs.ca/events/mission-moments-historic-deroche/
END:VEVENT
END:VCALENDAR