BEGIN:VCALENDAR
VERSION:2.0
PRODID:-//eventon.com NONSGML v1.0//EN
CALSCALE:GREGORIAN
METHOD:PUBLISH
BEGIN:VEVENT
UID:69e9df8513570
DTSTAMP:20260423T085949Z
DTSTART:20241214
DTEND:20241215
LOCATION:Mission Museum 33201 2nd Ave\,  Mission BC V2V4L1
SUMMARY:Mission Museum’s Merry Little Christmas Party
DESCRIPTION:Join us on Thursday\,  December 14th for holiday fun that’s p
 erfect for younger children. Choose between two sessions: 1-2 pm or 3-4 pm!
  Parents can relax in a cozy and festive space while kids enjoy: Christmas 
 story time A historic holiday scavenger hunt Make your own Christmas cracke
 rs Hot chocolate[..]\nhttps://www.missiondhs.ca/events/mission-museums-merr
 y-little-christmas-party/
URL:https://www.missiondhs.ca/events/mission-museums-merry-little-christmas-party/
END:VEVENT
END:VCALENDAR