BEGIN:VCALENDAR
VERSION:2.0
PRODID:-//eventon.com NONSGML v1.0//EN
CALSCALE:GREGORIAN
METHOD:PUBLISH
BEGIN:VEVENT
UID:69e7a2ba66bd3
DTSTAMP:20260421T161554Z
DTSTART:20250217
DTEND:20250218
LOCATION:
SUMMARY:BC Heritage Week
DESCRIPTION:\nhttps://www.missiondhs.ca/events/bc-heritage-week/
URL:https://www.missiondhs.ca/events/bc-heritage-week/
END:VEVENT
END:VCALENDAR