BEGIN:VCALENDAR
VERSION:2.0
PRODID:-//eventon.com NONSGML v1.0//EN
CALSCALE:GREGORIAN
METHOD:PUBLISH
BEGIN:VEVENT
UID:69e7bcc4edcb9
DTSTAMP:20260421T180700Z
DTSTART:20250217
DTEND:20250218
LOCATION:
SUMMARY:Mission Community Archives | The Birth of Mission City Virtual Exhibit
DESCRIPTION:\nhttps://www.missiondhs.ca/events/mission-community-archives-t
 he-birth-of-mission-city-exhibit/
URL:https://www.missiondhs.ca/events/mission-community-archives-the-birth-of-mission-city-exhibit/
END:VEVENT
END:VCALENDAR