BEGIN:VCALENDAR
VERSION:2.0
PRODID:-//eventon.com NONSGML v1.0//EN
CALSCALE:GREGORIAN
METHOD:PUBLISH
BEGIN:VEVENT
UID:69e7d158334eb
DTSTAMP:20260421T193448Z
DTSTART:20250210
DTEND:20250211
LOCATION:Mission Library 33247 2nd Ave\,  Mission\,  BC V2V 1J9
SUMMARY:Mission Museum | Time Well Spent Pop-up Exhibit
DESCRIPTION:Time Well Spent – How Our Leisure Activities Made Us Who We A
 re Pop-up exhibit at the Mission Library! Heritage BC launches Heritage Wee
 k annually during the 3rd week of February. It’s a themed celebration tha
 t showcases local heritage all across BC. Mission Museum will be hosting an
  in-person pop-up[..]\nhttps://www.missiondhs.ca/events/mission-museum-time
 -well-spent-exhibit/
URL:https://www.missiondhs.ca/events/mission-museum-time-well-spent-exhibit/
END:VEVENT
END:VCALENDAR