BEGIN:VCALENDAR
VERSION:2.0
PRODID:-//eventon.com NONSGML v1.0//EN
CALSCALE:GREGORIAN
METHOD:PUBLISH
BEGIN:VEVENT
UID:69e7e7e9857e9
DTSTAMP:20260421T211105Z
DTSTART:20250217
DTEND:20250218
LOCATION:
SUMMARY:Mission Museum | Time Well Spent Virtual Exhibit
DESCRIPTION:Time Well Spent – How Our Leisure Activities Made Us Who We A
 re A Virtual Exhibit Heritage BC launches Heritage Week annually during the
  3rd week of February. It’s a themed celebration that showcases local her
 itage all across BC. Mission Museum will be hosting a virtual exhibit on ou
 r website[..]\nhttps://www.missiondhs.ca/events/mission-museum-time-well-sp
 ent-virtual-exhibit/
URL:https://www.missiondhs.ca/events/mission-museum-time-well-spent-virtual-exhibit/
END:VEVENT
END:VCALENDAR