BEGIN:VCALENDAR
VERSION:2.0
PRODID:-//eventon.com NONSGML v1.0//EN
CALSCALE:GREGORIAN
METHOD:PUBLISH
BEGIN:VEVENT
UID:69e7fcac87163
DTSTAMP:20260421T223940Z
DTSTART:20250214
DTEND:20250215
LOCATION:Mission Leisure Centre 7650 Grand Street
SUMMARY:Mission Community Archives | The Birth of Mission City Pop-up Exhibit
DESCRIPTION:\nhttps://www.missiondhs.ca/events/mission-community-archives-t
 he-birth-of-mission-city-pop-up-exhibit/
URL:https://www.missiondhs.ca/events/mission-community-archives-the-birth-of-mission-city-pop-up-exhibit/
END:VEVENT
END:VCALENDAR