BEGIN:VCALENDAR
VERSION:2.0
PRODID:-//eventon.com NONSGML v1.0//EN
CALSCALE:GREGORIAN
METHOD:PUBLISH
BEGIN:VEVENT
UID:69e81549beb24
DTSTAMP:20260422T002441Z
DTSTART:20250301
DTEND:20250302
LOCATION:Mission Leisure Centre 7650 Grand Street
SUMMARY:Mission Community Archives | Carl Klenk Postcard collection Pop-up Exhibit
DESCRIPTION:\nhttps://www.missiondhs.ca/events/mission-community-archives-c
 arl-klenk-pop-up-exhibit/
URL:https://www.missiondhs.ca/events/mission-community-archives-carl-klenk-pop-up-exhibit/
END:VEVENT
END:VCALENDAR