BEGIN:VCALENDAR
VERSION:2.0
PRODID:-//eventon.com NONSGML v1.0//EN
CALSCALE:GREGORIAN
METHOD:PUBLISH
BEGIN:VEVENT
UID:69e82c130ee0a
DTSTAMP:20260422T020155Z
DTSTART:20250401
DTEND:20250402
LOCATION:Mission Leisure Centre 7650 Grand Street
SUMMARY:Mission Community Archives | Spiritual Places Pop-up Exhibit
DESCRIPTION:\nhttps://www.missiondhs.ca/events/mission-community-archives-s
 piritual-places-pop-up-exhibit/
URL:https://www.missiondhs.ca/events/mission-community-archives-spiritual-places-pop-up-exhibit/
END:VEVENT
END:VCALENDAR