BEGIN:VCALENDAR
VERSION:2.0
PRODID:-//eventon.com NONSGML v1.0//EN
CALSCALE:GREGORIAN
METHOD:PUBLISH
BEGIN:VEVENT
UID:69e8472e534c0
DTSTAMP:20260422T035734Z
DTSTART:20250418
DTEND:20250419
LOCATION:
SUMMARY:Mission Community Archives | CLOSED for Good Friday
DESCRIPTION:\nhttps://www.missiondhs.ca/events/mission-community-archives-c
 losed-for-good-friday/
URL:https://www.missiondhs.ca/events/mission-community-archives-closed-for-good-friday/
END:VEVENT
END:VCALENDAR