BEGIN:VCALENDAR
VERSION:2.0
PRODID:-//eventon.com NONSGML v1.0//EN
CALSCALE:GREGORIAN
METHOD:PUBLISH
BEGIN:VEVENT
UID:69e86094e8526
DTSTAMP:20260422T054556Z
DTSTART:20250419
DTEND:20250420
LOCATION:
SUMMARY:Mission Museum | CLOSED for Easter
DESCRIPTION:\nhttps://www.missiondhs.ca/events/mission-museum-closed-for-ea
 ster/
URL:https://www.missiondhs.ca/events/mission-museum-closed-for-easter/
END:VEVENT
END:VCALENDAR