BEGIN:VCALENDAR
VERSION:2.0
PRODID:-//eventon.com NONSGML v1.0//EN
CALSCALE:GREGORIAN
METHOD:PUBLISH
BEGIN:VEVENT
UID:69e8785b19955
DTSTAMP:20260422T072723Z
DTSTART:20250529T020000Z
DTEND:20250529T030000Z
LOCATION:Mission Community Archvies 33215 Second\,  Mission BC V2V 1J9
SUMMARY:Mission District Historical Society Annual General Meeting - CANCELLED
DESCRIPTION:The Annual General Meeting (AGM) scheduled for May 28th\,  2025
  has been cancelled. We regret this inconvenience\,  but the completion of
  the annual financial statements is not yet finalized\,  and we cannot proc
 eed with the AGM until this crucial aspect is complete. The NEW DATE is Ju
 ne 11th from 7:00 to 8:00PM.\nhttps://www.missiondhs.ca/events/mission-dist
 rict-historical-society-annual-general-meeting-3/
URL:https://www.missiondhs.ca/events/mission-district-historical-society-annual-general-meeting-3/
END:VEVENT
END:VCALENDAR