BEGIN:VCALENDAR
VERSION:2.0
PRODID:-//eventon.com NONSGML v1.0//EN
CALSCALE:GREGORIAN
METHOD:PUBLISH
BEGIN:VEVENT
UID:69e8a73f526c3
DTSTAMP:20260422T104727Z
DTSTART:20250802
DTEND:20250803
LOCATION:Mission Museum 33201 2nd Ave\,  Mission BC V2V4L1
SUMMARY:Mission Museum | Historic Downtown Walking Tour
DESCRIPTION:\nhttps://www.missiondhs.ca/events/historic-downtown-walking-to
 ur/
URL:https://www.missiondhs.ca/events/historic-downtown-walking-tour/
END:VEVENT
END:VCALENDAR